BEGIN:VCALENDAR
VERSION:2.0
PRODID:-//National Environmental Law Association (NELA) - ECPv6.15.20//NONSGML v1.0//EN
CALSCALE:GREGORIAN
METHOD:PUBLISH
X-WR-CALNAME:National Environmental Law Association (NELA)
X-ORIGINAL-URL:https://www.nela.org.au
X-WR-CALDESC:Events for National Environmental Law Association (NELA)
REFRESH-INTERVAL;VALUE=DURATION:PT1H
X-Robots-Tag:noindex
X-PUBLISHED-TTL:PT1H
BEGIN:VTIMEZONE
TZID:Australia/Perth
BEGIN:STANDARD
TZOFFSETFROM:+0800
TZOFFSETTO:+0800
TZNAME:AWST
DTSTART:20190101T000000
END:STANDARD
END:VTIMEZONE
BEGIN:VEVENT
DTSTART;TZID=Australia/Perth:20201007T140000
DTEND;TZID=Australia/Perth:20201007T170000
DTSTAMP:20260425T055002
CREATED:20200909T020102Z
LAST-MODIFIED:20200924T043311Z
UID:10000085-1602079200-1602090000@www.nela.org.au
SUMMARY:Construction and Demolition Products: Challenges and Opportunities in Western Australia
DESCRIPTION:There is a strong appetite for increasing the recovery of materials and decreasing waste in Western Australia. Recently the State Government has: \n\nrun a large program for the receipt of public submissions on the papers ‘Closing the Loop: Waste reforms for a circular economy’ and ‘Review of the waste levy – consultation paper;’\nplanned to introduce the Container Deposit Scheme in October 2020; and\npublished the Waste Avoidance and Resource Recovery Strategy 2030 which outlines the aim to increase the recovery of material in the C&D Sector to 80% by 2030.\n\nWith this in mind\, the Construction & Demolition industry\, a sector which makes up around half of Western Australia’s waste stream\, is primed for innovation. \nThis seminar brings together leading specialists to present their perspectives on the challenges and opportunities for the future uptake of recycled construction and demolition products in Western Australia.
URL:https://www.nela.org.au/nelaevent/construction-and-demolition-products-challenges-and-opportunities-in-western-australia/
CATEGORIES:In Person
ATTACH;FMTTYPE=image/png:https://www.nela.org.au/wp-content/uploads/CD-Waste-Challenges-and-Opportunities-e1599543906902.png
END:VEVENT
END:VCALENDAR