BEGIN:VCALENDAR
VERSION:2.0
PRODID:-//National Environmental Law Association (NELA) - ECPv6.15.20//NONSGML v1.0//EN
CALSCALE:GREGORIAN
METHOD:PUBLISH
X-WR-CALNAME:National Environmental Law Association (NELA)
X-ORIGINAL-URL:https://www.nela.org.au
X-WR-CALDESC:Events for National Environmental Law Association (NELA)
REFRESH-INTERVAL;VALUE=DURATION:PT1H
X-Robots-Tag:noindex
X-PUBLISHED-TTL:PT1H
BEGIN:VTIMEZONE
TZID:Australia/Perth
BEGIN:STANDARD
TZOFFSETFROM:+0800
TZOFFSETTO:+0800
TZNAME:AWST
DTSTART:20200101T000000
END:STANDARD
END:VTIMEZONE
BEGIN:VTIMEZONE
TZID:Australia/Sydney
BEGIN:STANDARD
TZOFFSETFROM:+1100
TZOFFSETTO:+1000
TZNAME:AEST
DTSTART:20200404T160000
END:STANDARD
BEGIN:DAYLIGHT
TZOFFSETFROM:+1000
TZOFFSETTO:+1100
TZNAME:AEDT
DTSTART:20201003T160000
END:DAYLIGHT
BEGIN:STANDARD
TZOFFSETFROM:+1100
TZOFFSETTO:+1000
TZNAME:AEST
DTSTART:20210403T160000
END:STANDARD
BEGIN:DAYLIGHT
TZOFFSETFROM:+1000
TZOFFSETTO:+1100
TZNAME:AEDT
DTSTART:20211002T160000
END:DAYLIGHT
BEGIN:STANDARD
TZOFFSETFROM:+1100
TZOFFSETTO:+1000
TZNAME:AEST
DTSTART:20220402T160000
END:STANDARD
BEGIN:DAYLIGHT
TZOFFSETFROM:+1000
TZOFFSETTO:+1100
TZNAME:AEDT
DTSTART:20221001T160000
END:DAYLIGHT
END:VTIMEZONE
BEGIN:VEVENT
DTSTART;VALUE=DATE:20210201
DTEND;VALUE=DATE:20211212
DTSTAMP:20260425T034444
CREATED:20210317T070520Z
LAST-MODIFIED:20211010T025618Z
UID:10000093-1612137600-1639267199@www.nela.org.au
SUMMARY:NELA 2021 Essay Competition
DESCRIPTION:Submit your essay\n\n\n                \n                        \n                             \n                        					\n						Δ\n						\n						\n\n					\n                        CompanyThis field is for validation purposes and should be left unchanged.Name*\n                            \n                            \n                                                    \n                                                    First\n                                                \n                            \n                            \n                                                    \n                                                    Last\n                                                \n                            \n                        Email*\n                            \n                        Submission Title*Upload Word or PDF Document*Accepted file types: pdf\, doc\, docx\, Max. file size: 20 MB.
URL:https://www.nela.org.au/nelaevent/nela-2021-essay-competition/
CATEGORIES:Digital
ATTACH;FMTTYPE=image/png:https://www.nela.org.au/wp-content/uploads/2021-Environmental-LAW-ESSAY-COMPETITION.png
END:VEVENT
BEGIN:VEVENT
DTSTART;TZID=Australia/Sydney:20210226T030000
DTEND;TZID=Australia/Sydney:20210226T040000
DTSTAMP:20260425T034444
CREATED:20210210T004009Z
LAST-MODIFIED:20210210T005306Z
UID:10000090-1614308400-1614312000@www.nela.org.au
SUMMARY:The Road to UNFCCC COP 26/CMA 3 Preparatory Lecture Series
DESCRIPTION:This monthly series of lectures will provide an expert overview of the key issues that will be discussed during UNFCCC COP 26 and the 3rd Meeting of the Parties to the Paris Agreement (CMA 3)\, in the context of past COPs and the UNFCCC/Paris Agreement legal framework.\nThis series will offer expert insight into the working mechanisms and procedure of climate change COPs\, how they function and what to expect from COP 26/CMA 3 from specific issues that are on the agenda.\nThe lecture series is aimed at government officials\, academics\, NGOs and others who will be attending or are interested in COP 26/CMA 3.\nThe registration links\, as well as additional information about the lectures and speakers\, are provided on the flyer here. \n 
URL:https://www.nela.org.au/nelaevent/the-road-to-unfccc-cop-26-cma-3-preparatory-lecture-series/
CATEGORIES:Digital
END:VEVENT
END:VCALENDAR