BEGIN:VCALENDAR
VERSION:2.0
PRODID:-//National Environmental Law Association (NELA) - ECPv6.15.20//NONSGML v1.0//EN
CALSCALE:GREGORIAN
METHOD:PUBLISH
X-WR-CALNAME:National Environmental Law Association (NELA)
X-ORIGINAL-URL:https://www.nela.org.au
X-WR-CALDESC:Events for National Environmental Law Association (NELA)
REFRESH-INTERVAL;VALUE=DURATION:PT1H
X-Robots-Tag:noindex
X-PUBLISHED-TTL:PT1H
BEGIN:VTIMEZONE
TZID:Australia/Sydney
BEGIN:STANDARD
TZOFFSETFROM:+1100
TZOFFSETTO:+1000
TZNAME:AEST
DTSTART:20220402T160000
END:STANDARD
BEGIN:DAYLIGHT
TZOFFSETFROM:+1000
TZOFFSETTO:+1100
TZNAME:AEDT
DTSTART:20221001T160000
END:DAYLIGHT
BEGIN:STANDARD
TZOFFSETFROM:+1100
TZOFFSETTO:+1000
TZNAME:AEST
DTSTART:20230401T160000
END:STANDARD
BEGIN:DAYLIGHT
TZOFFSETFROM:+1000
TZOFFSETTO:+1100
TZNAME:AEDT
DTSTART:20230930T160000
END:DAYLIGHT
BEGIN:STANDARD
TZOFFSETFROM:+1100
TZOFFSETTO:+1000
TZNAME:AEST
DTSTART:20240406T160000
END:STANDARD
BEGIN:DAYLIGHT
TZOFFSETFROM:+1000
TZOFFSETTO:+1100
TZNAME:AEDT
DTSTART:20241005T160000
END:DAYLIGHT
END:VTIMEZONE
BEGIN:VEVENT
DTSTART;TZID=Australia/Sydney:20231130T130000
DTEND;TZID=Australia/Sydney:20231130T143000
DTSTAMP:20260425T070300
CREATED:20231108T101244Z
LAST-MODIFIED:20231108T102408Z
UID:10000136-1701349200-1701354600@www.nela.org.au
SUMMARY:NELA National Annual General Meeting 2023
DESCRIPTION:Please join NELA for our National Annual General Meeting\, being held online on 30 November 2023. \nAccess the AGM Notice here\, to be informed of our items for business and voting eligibility. Notably\, at the AGM\, our President (Mark Beaufoy)\, Vice President (Dr Phil McCormack)\, Treasurer (Tiphanie Acreman)\, and Secretary (Tom Webb) will each deliver an annual report at the AGM. \nTo attend\, please register via our website. Registration closes at 5.00pm AEDT Monday 27 November 2023. \nPlease register by obtaining a ticket below.  \nIf you wish to vote at the AGM and have not yet paid your membership fees for the 2023-2024 financial year\, you must do so by 5:00pm AEDT Tuesday 28 November 2023.  If you do not pay your membership fees for the 2023-2024 financial year by this time\, you will NOT be eligible to vote at the AGM. \nIf you wish to vote at the NELA AGM\, but are unable to attend\, you can register for an AGM proxy vote as per for the proxy vote registration form and email it to secretary@nela.com.au.
URL:https://www.nela.org.au/nelaevent/nela-national-annual-general-meeting-2023/
LOCATION:Zoom
CATEGORIES:Digital
END:VEVENT
END:VCALENDAR