BEGIN:VCALENDAR
VERSION:2.0
PRODID:-//National Environmental Law Association (NELA) - ECPv6.15.20//NONSGML v1.0//EN
CALSCALE:GREGORIAN
METHOD:PUBLISH
X-ORIGINAL-URL:https://www.nela.org.au
X-WR-CALDESC:Events for National Environmental Law Association (NELA)
REFRESH-INTERVAL;VALUE=DURATION:PT1H
X-Robots-Tag:noindex
X-PUBLISHED-TTL:PT1H
BEGIN:VTIMEZONE
TZID:Australia/Sydney
BEGIN:STANDARD
TZOFFSETFROM:+1100
TZOFFSETTO:+1000
TZNAME:AEST
DTSTART:20230401T160000
END:STANDARD
BEGIN:DAYLIGHT
TZOFFSETFROM:+1000
TZOFFSETTO:+1100
TZNAME:AEDT
DTSTART:20230930T160000
END:DAYLIGHT
BEGIN:STANDARD
TZOFFSETFROM:+1100
TZOFFSETTO:+1000
TZNAME:AEST
DTSTART:20240406T160000
END:STANDARD
BEGIN:DAYLIGHT
TZOFFSETFROM:+1000
TZOFFSETTO:+1100
TZNAME:AEDT
DTSTART:20241005T160000
END:DAYLIGHT
BEGIN:STANDARD
TZOFFSETFROM:+1100
TZOFFSETTO:+1000
TZNAME:AEST
DTSTART:20250405T160000
END:STANDARD
BEGIN:DAYLIGHT
TZOFFSETFROM:+1000
TZOFFSETTO:+1100
TZNAME:AEDT
DTSTART:20251004T160000
END:DAYLIGHT
END:VTIMEZONE
BEGIN:VEVENT
DTSTART;TZID=Australia/Sydney:20241206T180000
DTEND;TZID=Australia/Sydney:20241206T230000
DTSTAMP:20260424T030915
CREATED:20240730T100602Z
LAST-MODIFIED:20241205T032141Z
UID:10000142-1733508000-1733526000@www.nela.org.au
SUMMARY:NELA's 2024 Inaugural Biennial Lecture
DESCRIPTION:  \n \n \nHuman Rights and Rights for Nature in the Net Zero and Nature Positive Transition\nNELA is thrilled to invite you to our inaugural biennial lecture\, ‘Human Rights and Rights for Nature in the Net Zero and Nature Positive Transition’\, our flagship event for 2024. \nThis event features three mini-lectures from leading legal minds to explore the implications of establishing new legal rights\, including human rights and rights for nature\, intended to lead to better management and regulation of the human-nature relationship. These rights are particularly important in responding to and mitigating the challenges raised the climate and biodiversity crises and will play a key role in the net zero and nature positive transition. \nRecently cases of litigation and shareholder activism have demonstrated the need for governments and businesses to recognise and respond to climate and nature-related risks. Courts in Australia and internationally demonstrating willingness to recognise the importance of environmental rights and some countries have enshrined rights for nature within their constitution. With a potential federal human rights act on the horizon in Australia and growing appetite for the recognition of rights for nature (particular water systems)\, lawyers and advocates should be across the key legal developments. The recognition and enforcement of these rights will shape future climate and nature litigation and have implications for government\, corporate and community behaviours. \nThe lectures will be followed by food and drinks at the venue. \nThe lectures will also be live streamed for those that cannot join us in person. \nPlease email events@nela.org.au for all enquiries.  \n\n  \n  \nMore about the speakers\n \n \n \n\n  \n  \n \nNELA offers its members a range of exclusive membership benefits\, including discounted rates for NELA events.  \nTo access member pricing for this event\, you can join as a member here.  \n  \n              \n 
URL:https://www.nela.org.au/nelaevent/nelas-2024-inaugural-biennial-lecture/
LOCATION:Gilbert + Tobin Sydney\, Level 35\, Tower 2/200 Barangaroo Ave\, Sydney\, NSW\, 2000\, Australia
ATTACH;FMTTYPE=image/png:https://www.nela.org.au/wp-content/uploads/Bien.-Lecture-Ft-Image.png
END:VEVENT
END:VCALENDAR