BEGIN:VCALENDAR
VERSION:2.0
PRODID:-//National Environmental Law Association (NELA) - ECPv6.15.20//NONSGML v1.0//EN
CALSCALE:GREGORIAN
METHOD:PUBLISH
X-ORIGINAL-URL:https://www.nela.org.au
X-WR-CALDESC:Events for National Environmental Law Association (NELA)
REFRESH-INTERVAL;VALUE=DURATION:PT1H
X-Robots-Tag:noindex
X-PUBLISHED-TTL:PT1H
BEGIN:VTIMEZONE
TZID:Australia/Melbourne
BEGIN:STANDARD
TZOFFSETFROM:+1100
TZOFFSETTO:+1000
TZNAME:AEST
DTSTART:20240406T160000
END:STANDARD
BEGIN:DAYLIGHT
TZOFFSETFROM:+1000
TZOFFSETTO:+1100
TZNAME:AEDT
DTSTART:20241005T160000
END:DAYLIGHT
BEGIN:STANDARD
TZOFFSETFROM:+1100
TZOFFSETTO:+1000
TZNAME:AEST
DTSTART:20250405T160000
END:STANDARD
BEGIN:DAYLIGHT
TZOFFSETFROM:+1000
TZOFFSETTO:+1100
TZNAME:AEDT
DTSTART:20251004T160000
END:DAYLIGHT
BEGIN:STANDARD
TZOFFSETFROM:+1100
TZOFFSETTO:+1000
TZNAME:AEST
DTSTART:20260404T160000
END:STANDARD
BEGIN:DAYLIGHT
TZOFFSETFROM:+1000
TZOFFSETTO:+1100
TZNAME:AEDT
DTSTART:20261003T160000
END:DAYLIGHT
END:VTIMEZONE
BEGIN:VEVENT
DTSTART;TZID=Australia/Melbourne:20250829T130000
DTEND;TZID=Australia/Melbourne:20250829T140000
DTSTAMP:20260423T182605
CREATED:20250819T012112Z
LAST-MODIFIED:20250825T110601Z
UID:10000153-1756472400-1756476000@www.nela.org.au
SUMMARY:NELA & EIANZ presents - The ICJ’s Climate Advisory Opinion and the Australian Pabai case: Implications for Australia and New Zealand
DESCRIPTION:  \n \nThe esteemed panelists of Tomo Boston KC and Jacqueline Peel will be led by Simon Molesworth AO\, KC to discuss the recent International Court of Justice (ICJ)’s opinion and the Australia Pabai case\, as well as reflecting on their respective implications for Australian and New Zealand climate laws and policies. \nFor more information and to grab a ticket\, please click on the EIANZ link where NELA members can register and receive member pricing. \nNELA Members will see this notice on the event page. Please scroll to the bottom of the page to register. \n \n 
URL:https://www.nela.org.au/nelaevent/nela-eianz-presents-the-icjs-climate-advisory-opinion-and-the-australian-pabai-case-implications-for-australia-and-new-zealand/
END:VEVENT
END:VCALENDAR