BEGIN:VCALENDAR
VERSION:2.0
PRODID:-//National Environmental Law Association (NELA) - ECPv6.15.20//NONSGML v1.0//EN
CALSCALE:GREGORIAN
METHOD:PUBLISH
X-WR-CALNAME:National Environmental Law Association (NELA)
X-ORIGINAL-URL:https://www.nela.org.au
X-WR-CALDESC:Events for National Environmental Law Association (NELA)
REFRESH-INTERVAL;VALUE=DURATION:PT1H
X-Robots-Tag:noindex
X-PUBLISHED-TTL:PT1H
BEGIN:VTIMEZONE
TZID:Australia/Brisbane
BEGIN:STANDARD
TZOFFSETFROM:+1000
TZOFFSETTO:+1000
TZNAME:AEST
DTSTART:20230101T000000
END:STANDARD
END:VTIMEZONE
BEGIN:VTIMEZONE
TZID:Australia/Melbourne
BEGIN:STANDARD
TZOFFSETFROM:+1100
TZOFFSETTO:+1000
TZNAME:AEST
DTSTART:20230401T160000
END:STANDARD
BEGIN:DAYLIGHT
TZOFFSETFROM:+1000
TZOFFSETTO:+1100
TZNAME:AEDT
DTSTART:20230930T160000
END:DAYLIGHT
BEGIN:STANDARD
TZOFFSETFROM:+1100
TZOFFSETTO:+1000
TZNAME:AEST
DTSTART:20240406T160000
END:STANDARD
BEGIN:DAYLIGHT
TZOFFSETFROM:+1000
TZOFFSETTO:+1100
TZNAME:AEDT
DTSTART:20241005T160000
END:DAYLIGHT
BEGIN:STANDARD
TZOFFSETFROM:+1100
TZOFFSETTO:+1000
TZNAME:AEST
DTSTART:20250405T160000
END:STANDARD
BEGIN:DAYLIGHT
TZOFFSETFROM:+1000
TZOFFSETTO:+1100
TZNAME:AEDT
DTSTART:20251004T160000
END:DAYLIGHT
END:VTIMEZONE
BEGIN:VTIMEZONE
TZID:Australia/Sydney
BEGIN:STANDARD
TZOFFSETFROM:+1100
TZOFFSETTO:+1000
TZNAME:AEST
DTSTART:20230401T160000
END:STANDARD
BEGIN:DAYLIGHT
TZOFFSETFROM:+1000
TZOFFSETTO:+1100
TZNAME:AEDT
DTSTART:20230930T160000
END:DAYLIGHT
BEGIN:STANDARD
TZOFFSETFROM:+1100
TZOFFSETTO:+1000
TZNAME:AEST
DTSTART:20240406T160000
END:STANDARD
BEGIN:DAYLIGHT
TZOFFSETFROM:+1000
TZOFFSETTO:+1100
TZNAME:AEDT
DTSTART:20241005T160000
END:DAYLIGHT
BEGIN:STANDARD
TZOFFSETFROM:+1100
TZOFFSETTO:+1000
TZNAME:AEST
DTSTART:20250405T160000
END:STANDARD
BEGIN:DAYLIGHT
TZOFFSETFROM:+1000
TZOFFSETTO:+1100
TZNAME:AEDT
DTSTART:20251004T160000
END:DAYLIGHT
BEGIN:STANDARD
TZOFFSETFROM:+1100
TZOFFSETTO:+1000
TZNAME:AEST
DTSTART:20260404T160000
END:STANDARD
BEGIN:DAYLIGHT
TZOFFSETFROM:+1000
TZOFFSETTO:+1100
TZNAME:AEDT
DTSTART:20261003T160000
END:DAYLIGHT
END:VTIMEZONE
BEGIN:VEVENT
DTSTART;TZID=Australia/Brisbane:20240620T170000
DTEND;TZID=Australia/Brisbane:20240620T190000
DTSTAMP:20260425T090052
CREATED:20240603T082942Z
LAST-MODIFIED:20240617T085045Z
UID:10000140-1718902800-1718910000@www.nela.org.au
SUMMARY:NELA Seminar Series: Better for the environment\, better for business: how will the EPBC Act reforms meet the brief?
DESCRIPTION:Join us and environmental law experts\, Dr Justine Bell-James (Associate Professor UQ)\, Dave Copeman (Director Queensland Conservation Council) and Madeline Simpson (Partner McCullough Robertson) to hear about the Federal government’s nature positive reforms\, including the recently released Stage 2 legislation\, how the EPA and EIA will impact business and the environment and what we can expect from Stage 3.  \nThis will be an online only event with livestream links distributed prior to the event.  \nMore About the Speakers: \nJustine Bell-James is an Associate Professor at the TC Beirne School of Law at the University of Queensland\, researching and teaching in the areas of environmental and climate change law. Justine is a Director of the National Environmental Law Association (NELA) and represented NELA at the EPBC Act reform stakeholder consultation sessions.   \nMadeline Simpson\, Partner at McCullough Robertson is a leading Queensland environmental lawyer with more than 25 years’ experience. Madeline is an expert in managing risks associated with environmental issues\, environmental and climate law reform\, energy transition and the Commonwealth Government’s Nature Positive commitment.  \n  \nAre you a member of EIANZ\, AELERT\, or ARIEL? You can enjoy NELA member pricing! To access this benefit\, please select a Member ticket\, indicate your organisation in the name field\, and provide proof of membership of the relevant organisation to events@nela.org.au at the time of registration.
URL:https://www.nela.org.au/nelaevent/nela-seminar-series-better-for-the-environment-better-for-business-how-will-the-epbc-act-reforms-meet-the-brief/
LOCATION:Zoom
CATEGORIES:Digital
END:VEVENT
BEGIN:VEVENT
DTSTART;TZID=Australia/Melbourne:20240718T190000
DTEND;TZID=Australia/Melbourne:20240718T200000
DTSTAMP:20260425T090052
CREATED:20240702T085551Z
LAST-MODIFIED:20240702T104337Z
UID:10000141-1721329200-1721332800@www.nela.org.au
SUMMARY:NELA Webinar Series- Taking wildlife crime seriously: legal reforms and lessons from Europe
DESCRIPTION:Wildlife crime is increasing globally\, posing a growing threat to Australia’s rich diversity of threatened and endemic species and natural ecosystems. Illegal harvesting\, killing\, and trading plants and animals also seriously threatens Australia’s tourism industry and its $100 billion agricultural\, forestry and fisheries exports. However\, existing laws have consistently failed to effectively deter and punish environmental crimes in Australia and around the world. In this seminar\, our speakers will make the case that in designing Australia’s new national environmental laws\, law makers must take the growing threat of wildlife crime seriously. The seminar will detail the changing nature of the threat that wildlife crime poses to biodiversity\, showcasing cutting-edge research at the intersection of science\, criminology and law\, and highlighting recent developments in international and European laws to combat wildlife crime. \nMore about the Speakers:  \nProfessor Phill Cassey is an inaugural Australian Research Council Industry Laureate Fellow\, head of the Invasion Science & Wildlife Ecology Group (a research-intensive laboratory at the University of Adelaide) and\, most recently\, discipline head of the University of Adelaide’s Department of Ecology & Evolutionary Biology. He is recognised internationally as a leading expert on wildlife crime and has published extensively (>300 papers) on the conservation\, transport and trade in animal species. Phill’s research has been adopted in environmental biosecurity arrangements by state and national governments in Australia\, and he is one of a small number of academics on the INTERPOL ‘Wildlife Crime Working Group’\, working to apply environmental biosecurity principles to combat demand and illegal wildlife trafficking. \nDr Daan van Uhm is Associate Professor of Criminology\, specialising in Green Criminology\, at the Utrecht University School of Law\, Willem Pompe Institute for Criminal Law and Criminology. His research focuses primarily on ‘green crimes’ and environmental harm\, including illegal mining in Latin America\, wildlife trafficking in Southeast Asia\, deforestation in Central Africa\, and the criminalisation of ecocide. Daan has a PhD in Criminology from Utrecht University\, on the topic: The Illegal Wildlife Trade: Inside the World of Poachers\, Smugglers and Traders (published by Springer). In 2018 he received the Veni grant of the Dutch Organisation for Scientific Research (NWO) for his research project ‘The Diversification of Organized Crime into the Illegal Trade in Natural Resources’. In 2022 he received the ERC Starting Grant (European Research Council) for the research project ‘Green Crimes and Joint Crime Ventures: Laundering Natural Resources’. \nDr Phil McCormack is co-convenor of the NELA’s Publications\, Submissions & Advocacy Portfolio\, and Future Making Fellow at the Environment Institute and Adelaide Law School\, The University of Adelaide. Phil is a climate and environmental law scholar. Her research critically evaluates Australia’s conservation laws\, highlighting legal and policy challenges and proposing reforms to help biodiversity adapt as the climate changes.
URL:https://www.nela.org.au/nelaevent/nela-webinar-series-taking-wildlife-crime-seriously-legal-reforms-and-lessons-from-europe/
LOCATION:Zoom
CATEGORIES:Digital,In Person
END:VEVENT
BEGIN:VEVENT
DTSTART;TZID=Australia/Sydney:20240902T180000
DTEND;TZID=Australia/Sydney:20240902T190000
DTSTAMP:20260425T090052
CREATED:20240812T103706Z
LAST-MODIFIED:20240812T110616Z
UID:10000144-1725300000-1725303600@www.nela.org.au
SUMMARY:NELA Extraordinary General Meeting of Members
DESCRIPTION:  \n \nPlease join NELA for an Extraordinary General Meeting\, being held online on 2 September 2024. \nAccess the EGM Notice here\, to be informed of our items for business and voting eligibility. The EGM will consider proposed changes to NELA’s Constitution. \nTo attend\, please register by obtaining a ticket below. Registration closes at 6:00pm AEST 30 August 2024. \nIf you wish to vote at the EGM and have not yet paid your membership fees for the 2024-2025 financial year\, you must do so by 5:00pm AEDT Friday 30 August 2024.  If you do not pay your membership fees for the 2024-2025 financial year by this time\, you will NOT be eligible to vote at the EGM.  \nIf you wish to vote at the NELA EGM\, but are unable to attend\, you can register for an EGM proxy vote as per the proxy vote registration form and email it to secretary@nela.com.au.
URL:https://www.nela.org.au/nelaevent/nela-extraordinary-general-meeting-of-members/
LOCATION:Zoom
CATEGORIES:Digital
END:VEVENT
BEGIN:VEVENT
DTSTART;TZID=Australia/Melbourne:20241106T110000
DTEND;TZID=Australia/Melbourne:20241106T120000
DTSTAMP:20260425T090052
CREATED:20241022T004249Z
LAST-MODIFIED:20241105T090826Z
UID:10000148-1730890800-1730894400@www.nela.org.au
SUMMARY:Contaminated Land - Lawyers Duty of Care & Best Practice Due Diligence
DESCRIPTION: 
URL:https://www.nela.org.au/nelaevent/contaminated-land-lawyers-duty-of-care-best-practice-due-diligence/
LOCATION:Zoom
CATEGORIES:Digital
END:VEVENT
BEGIN:VEVENT
DTSTART;TZID=Australia/Sydney:20241106T180000
DTEND;TZID=Australia/Sydney:20241106T193000
DTSTAMP:20260425T090052
CREATED:20241016T005806Z
LAST-MODIFIED:20241016T010556Z
UID:10000147-1730916000-1730921400@www.nela.org.au
SUMMARY:NELA National Annual General Meeting 2024
DESCRIPTION:  \nPlease join NELA for our National Annual General Meeting\, being held online on Wednesday 6 November 2024. \nAccess the AGM Notice here\, to be informed of our items for business and voting eligibility. Notably\, at the AGM\, our President (Mark Beaufoy)\, Vice President (Grace Huang)\, Treasurer (Tiphanie Acreman)\, and Secretary (Tom Webb) will each deliver an annual report at the AGM. \nPlease register by obtaining a ticket below. Registration closes at 5.00pm AEDT Sunday 3 November 2024. \nIf you wish to vote at the AGM and have not yet paid your membership fees for the 2024-2025 financial year\, you must do so by 5:00pm AEDT Tuesday 5 November 2024.  If you do not pay your membership fees for the 2024-2025 financial year by this time\, you will NOT be eligible to vote at the AGM. \nIf you wish to vote at the NELA AGM\, but are unable to attend\, you can register for an AGM proxy vote as per for the proxy vote registration form and email it to secretary@nela.com.au.
URL:https://www.nela.org.au/nelaevent/nela-national-annual-general-meeting-2024/
LOCATION:Zoom
CATEGORIES:Digital
END:VEVENT
BEGIN:VEVENT
DTSTART;TZID=Australia/Sydney:20251125T190000
DTEND;TZID=Australia/Sydney:20251125T200000
DTSTAMP:20260425T090052
CREATED:20251102T111738Z
LAST-MODIFIED:20251104T074452Z
UID:10000156-1764097200-1764100800@www.nela.org.au
SUMMARY:NELA National Annual General Meeting 2025
DESCRIPTION:Please join NELA for our National Annual General Meeting\, being held online on Tuesday\, 25 November 2025. \nAccess the AGM Notice here\, to be informed of our items for business and voting eligibility. At the AGM\, our President (Mark Beaufoy)\, Vice President (Grace Huang)\, Treasurer (Shannon McGrellis)\, and Secretary (Tanja Mikulic) will each deliver an annual report. \nPlease register by obtaining a ticket below. Registration closes at 5.00pm AEDT Sunday\, 23 November 2025. \nNote: We are currently experiencing some intermittent IT issues – if you cannot register below\, please email secretary@nela.org.au to register.  \nIf you wish to vote at the AGM and have not yet paid your membership fees for the 2025-2026 financial year\, you must do so by 5.00pm AEDT Monday\, 24 November 2025.  If you do not pay your membership fees for the 2025-2026 financial year by this time\, you will not be eligible to vote at the AGM. \nIf you wish to vote at the NELA AGM\, but are unable to attend\, you can register for an AGM proxy vote using the proxy vote registration form and email it to secretary@nela.com.au by 5.00pm Sunday\, 23 November.
URL:https://www.nela.org.au/nelaevent/nela-national-annual-general-meeting-2025/
CATEGORIES:Digital
END:VEVENT
END:VCALENDAR