BEGIN:VCALENDAR
VERSION:2.0
PRODID:-//National Environmental Law Association (NELA) - ECPv6.15.20//NONSGML v1.0//EN
CALSCALE:GREGORIAN
METHOD:PUBLISH
X-WR-CALNAME:National Environmental Law Association (NELA)
X-ORIGINAL-URL:https://www.nela.org.au
X-WR-CALDESC:Events for National Environmental Law Association (NELA)
REFRESH-INTERVAL;VALUE=DURATION:PT1H
X-Robots-Tag:noindex
X-PUBLISHED-TTL:PT1H
BEGIN:VTIMEZONE
TZID:Australia/Perth
BEGIN:STANDARD
TZOFFSETFROM:+0800
TZOFFSETTO:+0800
TZNAME:AWST
DTSTART:20190101T000000
END:STANDARD
END:VTIMEZONE
BEGIN:VEVENT
DTSTART;TZID=Australia/Perth:20200715T120000
DTEND;TZID=Australia/Perth:20200715T143000
DTSTAMP:20260425T003039
CREATED:20200714T085813Z
LAST-MODIFIED:20200714T090159Z
UID:10000082-1594814400-1594823400@www.nela.org.au
SUMMARY:New Event
DESCRIPTION:Test
URL:https://www.nela.org.au/nelaevent/new-event/
LOCATION:The University of Western Australia\, 35 Stirling Hwy\, Crawley\, WA\, 6009\, Australia
CATEGORIES:In Person
END:VEVENT
END:VCALENDAR