BEGIN:VCALENDAR
VERSION:2.0
PRODID:-//National Environmental Law Association (NELA) - ECPv6.15.20//NONSGML v1.0//EN
CALSCALE:GREGORIAN
METHOD:PUBLISH
X-WR-CALNAME:National Environmental Law Association (NELA)
X-ORIGINAL-URL:https://www.nela.org.au
X-WR-CALDESC:Events for National Environmental Law Association (NELA)
REFRESH-INTERVAL;VALUE=DURATION:PT1H
X-Robots-Tag:noindex
X-PUBLISHED-TTL:PT1H
BEGIN:VTIMEZONE
TZID:Australia/Sydney
BEGIN:STANDARD
TZOFFSETFROM:+1100
TZOFFSETTO:+1000
TZNAME:AEST
DTSTART:20230401T160000
END:STANDARD
BEGIN:DAYLIGHT
TZOFFSETFROM:+1000
TZOFFSETTO:+1100
TZNAME:AEDT
DTSTART:20230930T160000
END:DAYLIGHT
BEGIN:STANDARD
TZOFFSETFROM:+1100
TZOFFSETTO:+1000
TZNAME:AEST
DTSTART:20240406T160000
END:STANDARD
BEGIN:DAYLIGHT
TZOFFSETFROM:+1000
TZOFFSETTO:+1100
TZNAME:AEDT
DTSTART:20241005T160000
END:DAYLIGHT
BEGIN:STANDARD
TZOFFSETFROM:+1100
TZOFFSETTO:+1000
TZNAME:AEST
DTSTART:20250405T160000
END:STANDARD
BEGIN:DAYLIGHT
TZOFFSETFROM:+1000
TZOFFSETTO:+1100
TZNAME:AEDT
DTSTART:20251004T160000
END:DAYLIGHT
END:VTIMEZONE
BEGIN:VEVENT
DTSTART;TZID=Australia/Sydney:20240513T173000
DTEND;TZID=Australia/Sydney:20240513T184500
DTSTAMP:20260424T081805
CREATED:20240428T114916Z
LAST-MODIFIED:20240429T122446Z
UID:10000139-1715621400-1715625900@www.nela.org.au
SUMMARY:The ASEAN Environmental Rights Framework and Opportunities for Australia
DESCRIPTION:  \n \n  \n  \nOver the past three years\, the Asian Research Institute for Environmental Law (ARIEL) has been working with the ASEAN Environmental Rights Working Group (AER WG) established by the ASEAN Intergovernmental Commission on Human Rights (AICHR) on the development of an environmental rights framework for ASEAN. Following three AER WG meetings\, a draft document has been released for stakeholder consultation. It must be noted that this document\, the “Draft ASEAN Declaration on Environmental Rights”\, is not a final document. The AER WG will meet again in early May to consider amendments to the document and to review submissions received during the stakeholder engagement process. To assist with the stakeholder consultation plan and future discussion on environmental rights in ASEAN\, ARIEL has established a website https://www.environmental-rights.net/ \nIn Australia\, the Joint Commonwealth Parliamentary Committee has been examining options for a Charter of Rights for Australia. Submissions to the inquiry have now closed\, and public hearings have been held. A number of environmental law groups made submissions urging the Committee to adopt provisions for the right to a clean\, healthy and sustainable environment and the procedural rights found in Principle 10 of the Rio Declaration – access to information\, public participation and access to justice.  \n Some submissions called on the Committee to recommend that Australia adopt the Aarhus Convention.  \n In this regard\, the webinar seeks to: \n●      Introduce the draft ASEAN Environmental Rights Framework \n●      Review the current discussion on environmental rights in the current Draft Charter of Rights. \n●      Consider how Australia could undertake an Aarhus Convention review to see what changes are required for Australia to comply with existing environmental and procedural rights norms. \n  \nTo register\, please use the QR code above.
URL:https://www.nela.org.au/nelaevent/the-asean-environmental-rights-framework-and-opportunities-for-australia-2/
LOCATION:College of Law\, Level 4\, 570 George Street\, Sydney\, Level 4\, 570 George Street\, Sydney\, NSW\, Australia
CATEGORIES:Digital,In Person
END:VEVENT
END:VCALENDAR