BEGIN:VCALENDAR
VERSION:2.0
PRODID:-//National Environmental Law Association (NELA) - ECPv6.15.20//NONSGML v1.0//EN
CALSCALE:GREGORIAN
METHOD:PUBLISH
X-ORIGINAL-URL:https://www.nela.org.au
X-WR-CALDESC:Events for National Environmental Law Association (NELA)
REFRESH-INTERVAL;VALUE=DURATION:PT1H
X-Robots-Tag:noindex
X-PUBLISHED-TTL:PT1H
BEGIN:VTIMEZONE
TZID:Australia/Perth
BEGIN:STANDARD
TZOFFSETFROM:+0800
TZOFFSETTO:+0800
TZNAME:AWST
DTSTART:20220101T000000
END:STANDARD
END:VTIMEZONE
BEGIN:VEVENT
DTSTART;TZID=Australia/Perth:20230616T173000
DTEND;TZID=Australia/Perth:20230616T210000
DTSTAMP:20260422T072740
CREATED:20230518T031350Z
LAST-MODIFIED:20230607T124305Z
UID:10000129-1686936600-1686949200@www.nela.org.au
SUMMARY:Sarah Flynne Memorial Lecture
DESCRIPTION:Register now for the inaugural Sarah Flynne Memorial Lecture\, presented by Curtin University and the National Environmental Law Association. \nThe Sarah Flynne Memorial Lecture commemorates the life and work of Sarah Flynne\, a rising star in Australian climate law who passed away in 2022. The Lecture is an annual event to showcase innovation in climate action and environmental law and policy\, and to encourage creativity in legal\, economic and social responses to climate change and environmental protection. \nThe 2023 Sarah Flynne Memorial Lecture will be presented by Zoe Bush (Environmental Defenders Office)\, entitled “The role of lawyers in addressing the climate crisis”. The keynote address will be followed by a youth panel discussion on the topic facilitated by Dr Lauren Butterly (University of Western Australia). \nRefreshments will be provided following the lecture and panel discussion. \nRegistrations are free and are available below\, or by email to secretary@nelawa.org.au
URL:https://www.nela.org.au/nelaevent/sarah-flynne-memorial-lecture/
LOCATION:Central Park Theatrette\, 158 St Georges Tce\, Perth\, WA\, 6000\, Australia
CATEGORIES:In Person
ATTACH;FMTTYPE=image/png:https://www.nela.org.au/wp-content/uploads/SF-Lecture-for-website.png
END:VEVENT
END:VCALENDAR